Package: MetaboSignal Version: 1.36.0 Command: /Library/Frameworks/R.framework/Resources/bin/R CMD build --keep-empty-dirs --no-resave-data MetaboSignal StartedAt: 2025-02-11 02:53:04 -0500 (Tue, 11 Feb 2025) EndedAt: 2025-02-11 02:55:20 -0500 (Tue, 11 Feb 2025) EllapsedTime: 135.5 seconds RetCode: 0 Status: OK PackageFile: MetaboSignal_1.36.0.tar.gz PackageFileSize: 2.089 MiB