Package: MetaboSignal Version: 1.36.0 Command: rm -rf MetaboSignal.buildbin-libdir && mkdir MetaboSignal.buildbin-libdir && /Users/biocbuild/BBS/utils/build-universal.sh MetaboSignal_1.36.0.tar.gz /Library/Frameworks/R.framework/Resources/bin/R MetaboSignal.buildbin-libdir StartedAt: 2025-02-11 13:43:01 -0500 (Tue, 11 Feb 2025) EndedAt: 2025-02-11 13:46:14 -0500 (Tue, 11 Feb 2025) EllapsedTime: 192.8 seconds RetCode: 0 Status: OK PackageFile: MetaboSignal_1.36.0.tgz PackageFileSize: 2.664 MiB