Package: MetaboSignal Version: 1.36.0 Command: /home/biocbuild/bbs-3.20-bioc/R/bin/R CMD INSTALL MetaboSignal StartedAt: 2025-02-10 15:49:19 -0500 (Mon, 10 Feb 2025) EndedAt: 2025-02-10 15:50:10 -0500 (Mon, 10 Feb 2025) EllapsedTime: 50.5 seconds RetCode: 0 Status: OK