Package: MetaboSignal Version: 1.36.0 Command: rm -rf MetaboSignal.buildbin-libdir && mkdir MetaboSignal.buildbin-libdir && F:\biocbuild\bbs-3.20-bioc\R\bin\R.exe CMD INSTALL --build --library=MetaboSignal.buildbin-libdir MetaboSignal_1.36.0.tar.gz StartedAt: 2025-02-11 08:50:08 -0500 (Tue, 11 Feb 2025) EndedAt: 2025-02-11 08:51:17 -0500 (Tue, 11 Feb 2025) EllapsedTime: 68.9 seconds RetCode: 0 Status: OK PackageFile: MetaboSignal_1.36.0.zip PackageFileSize: 2.654 MiB