Package: MetaboSignal Version: 1.36.0 Command: chmod a+r MetaboSignal -R && F:\biocbuild\bbs-3.20-bioc\R\bin\R.exe CMD build --keep-empty-dirs --no-resave-data MetaboSignal StartedAt: 2025-02-10 20:07:56 -0500 (Mon, 10 Feb 2025) EndedAt: 2025-02-10 20:10:19 -0500 (Mon, 10 Feb 2025) EllapsedTime: 143.0 seconds RetCode: 0 Status: OK PackageFile: MetaboSignal_1.36.0.tar.gz PackageFileSize: 2.089 MiB