Package: MethPed Version: 1.34.0 Command: /Library/Frameworks/R.framework/Resources/bin/R CMD build --keep-empty-dirs --no-resave-data MethPed StartedAt: 2025-02-11 03:00:18 -0500 (Tue, 11 Feb 2025) EndedAt: 2025-02-11 03:02:37 -0500 (Tue, 11 Feb 2025) EllapsedTime: 138.2 seconds RetCode: 0 Status: OK PackageFile: MethPed_1.34.0.tar.gz PackageFileSize: 9.29 MiB