Package: MethPed Version: 1.34.0 Command: /home/biocbuild/R/R/bin/R CMD check --install=check:MethPed.install-out.txt --library=/home/biocbuild/R/R/site-library --no-vignettes --timings MethPed_1.34.0.tar.gz StartedAt: 2025-02-04 08:37:20 -0000 (Tue, 04 Feb 2025) EndedAt: 2025-02-04 08:40:52 -0000 (Tue, 04 Feb 2025) EllapsedTime: 212.2 seconds RetCode: 0 Status: OK CheckDir: MethPed.Rcheck Warnings: 0