Package: MethReg Version: 1.16.0 Command: /Library/Frameworks/R.framework/Resources/bin/R CMD build --keep-empty-dirs --no-resave-data MethReg StartedAt: 2025-02-11 03:02:37 -0500 (Tue, 11 Feb 2025) EndedAt: 2025-02-11 03:04:33 -0500 (Tue, 11 Feb 2025) EllapsedTime: 116.0 seconds RetCode: 1 Status: ERROR PackageFile: None PackageFileSize: NA