Package: MethTargetedNGS Version: 1.38.0 Command: rm -rf MethTargetedNGS.buildbin-libdir && mkdir MethTargetedNGS.buildbin-libdir && /Users/biocbuild/BBS/utils/build-universal.sh MethTargetedNGS_1.38.0.tar.gz /Library/Frameworks/R.framework/Resources/bin/R MethTargetedNGS.buildbin-libdir StartedAt: 2025-02-05 16:35:39 -0500 (Wed, 05 Feb 2025) EndedAt: 2025-02-05 16:35:55 -0500 (Wed, 05 Feb 2025) EllapsedTime: 15.9 seconds RetCode: 0 Status: OK PackageFile: MethTargetedNGS_1.38.0.tgz PackageFileSize: 322.2 KiB