Package: MethTargetedNGS Version: 1.38.0 Command: /Library/Frameworks/R.framework/Resources/bin/R CMD build --keep-empty-dirs --no-resave-data MethTargetedNGS StartedAt: 2025-02-04 03:02:55 -0500 (Tue, 04 Feb 2025) EndedAt: 2025-02-04 03:03:32 -0500 (Tue, 04 Feb 2025) EllapsedTime: 37.3 seconds RetCode: 0 Status: OK PackageFile: MethTargetedNGS_1.38.0.tar.gz PackageFileSize: 282.5 KiB