Package: MethTargetedNGS Version: 1.38.0 Command: /Library/Frameworks/R.framework/Resources/bin/R CMD check --install=check:MethTargetedNGS.install-out.txt --library=/Library/Frameworks/R.framework/Resources/library --no-vignettes --timings MethTargetedNGS_1.38.0.tar.gz StartedAt: 2025-02-05 01:20:43 -0500 (Wed, 05 Feb 2025) EndedAt: 2025-02-05 01:22:28 -0500 (Wed, 05 Feb 2025) EllapsedTime: 104.2 seconds RetCode: 0 Status: OK CheckDir: MethTargetedNGS.Rcheck Warnings: 0