Package: MethTargetedNGS Version: 1.38.0 Command: /Library/Frameworks/R.framework/Resources/bin/R CMD check --install=check:MethTargetedNGS.install-out.txt --library=/Library/Frameworks/R.framework/Resources/library --no-vignettes --timings MethTargetedNGS_1.38.0.tar.gz StartedAt: 2025-02-04 06:07:49 -0500 (Tue, 04 Feb 2025) EndedAt: 2025-02-04 06:11:13 -0500 (Tue, 04 Feb 2025) EllapsedTime: 204.1 seconds RetCode: 0 Status: OK CheckDir: MethTargetedNGS.Rcheck Warnings: 0