Package: MethTargetedNGS Version: 1.38.0 Command: /home/biocbuild/bbs-3.20-bioc/R/bin/R CMD check --install=check:MethTargetedNGS.install-out.txt --library=/home/biocbuild/bbs-3.20-bioc/R/site-library --timings MethTargetedNGS_1.38.0.tar.gz StartedAt: 2025-02-03 23:58:18 -0500 (Mon, 03 Feb 2025) EndedAt: 2025-02-03 23:59:55 -0500 (Mon, 03 Feb 2025) EllapsedTime: 96.1 seconds RetCode: 0 Status: OK CheckDir: MethTargetedNGS.Rcheck Warnings: 0