Package: MethTargetedNGS Version: 1.38.0 Command: /home/biocbuild/bbs-3.20-bioc/R/bin/R CMD INSTALL MethTargetedNGS StartedAt: 2025-02-10 15:18:01 -0500 (Mon, 10 Feb 2025) EndedAt: 2025-02-10 15:18:11 -0500 (Mon, 10 Feb 2025) EllapsedTime: 10.6 seconds RetCode: 0 Status: OK