Package: MethTargetedNGS Version: 1.38.0 Command: rm -rf MethTargetedNGS.buildbin-libdir && mkdir MethTargetedNGS.buildbin-libdir && F:\biocbuild\bbs-3.20-bioc\R\bin\R.exe CMD INSTALL --build --library=MethTargetedNGS.buildbin-libdir MethTargetedNGS_1.38.0.tar.gz StartedAt: 2025-02-04 08:53:48 -0500 (Tue, 04 Feb 2025) EndedAt: 2025-02-04 08:54:08 -0500 (Tue, 04 Feb 2025) EllapsedTime: 20.7 seconds RetCode: 0 Status: OK PackageFile: MethTargetedNGS_1.38.0.zip PackageFileSize: 175.1 KiB