Package: MethTargetedNGS Version: 1.38.0 Command: chmod a+r MethTargetedNGS -R && F:\biocbuild\bbs-3.20-bioc\R\bin\R.exe CMD build --keep-empty-dirs --no-resave-data MethTargetedNGS StartedAt: 2025-02-03 20:15:47 -0500 (Mon, 03 Feb 2025) EndedAt: 2025-02-03 20:16:30 -0500 (Mon, 03 Feb 2025) EllapsedTime: 42.8 seconds RetCode: 0 Status: OK PackageFile: MethTargetedNGS_1.38.0.tar.gz PackageFileSize: 130.8 KiB