Package: MethTargetedNGS Version: 1.38.0 Command: F:\biocbuild\bbs-3.20-bioc\R\bin\R.exe CMD INSTALL MethTargetedNGS StartedAt: 2025-02-03 15:51:20 -0500 (Mon, 03 Feb 2025) EndedAt: 2025-02-03 15:51:46 -0500 (Mon, 03 Feb 2025) EllapsedTime: 26.1 seconds RetCode: 0 Status: OK