Package: MethTargetedNGS Version: 1.38.0 Command: /home/biocbuild/R/R/bin/R CMD build --keep-empty-dirs --no-resave-data MethTargetedNGS StartedAt: 2025-02-04 00:50:18 -0000 (Tue, 04 Feb 2025) EndedAt: 2025-02-04 00:50:43 -0000 (Tue, 04 Feb 2025) EllapsedTime: 25.0 seconds RetCode: 0 Status: OK PackageFile: MethTargetedNGS_1.38.0.tar.gz PackageFileSize: 271.6 KiB