Package: MethylMix Version: 2.36.0 Command: /Library/Frameworks/R.framework/Resources/bin/R CMD build --keep-empty-dirs --no-resave-data MethylMix StartedAt: 2025-02-04 03:14:10 -0500 (Tue, 04 Feb 2025) EndedAt: 2025-02-04 03:14:50 -0500 (Tue, 04 Feb 2025) EllapsedTime: 39.6 seconds RetCode: 0 Status: OK PackageFile: MethylMix_2.36.0.tar.gz PackageFileSize: 2.576 MiB