Package: MethylMix Version: 2.36.0 Command: rm -rf MethylMix.buildbin-libdir && mkdir MethylMix.buildbin-libdir && /Users/biocbuild/BBS/utils/build-universal.sh MethylMix_2.36.0.tar.gz /Library/Frameworks/R.framework/Resources/bin/R MethylMix.buildbin-libdir StartedAt: 2025-02-04 13:23:48 -0500 (Tue, 04 Feb 2025) EndedAt: 2025-02-04 13:24:15 -0500 (Tue, 04 Feb 2025) EllapsedTime: 27.0 seconds RetCode: 0 Status: OK PackageFile: MethylMix_2.36.0.tgz PackageFileSize: 3.027 MiB