Package: MethylMix Version: 2.36.0 Command: /Library/Frameworks/R.framework/Resources/bin/R CMD check --install=check:MethylMix.install-out.txt --library=/Library/Frameworks/R.framework/Resources/library --no-vignettes --timings MethylMix_2.36.0.tar.gz StartedAt: 2025-02-11 06:14:14 -0500 (Tue, 11 Feb 2025) EndedAt: 2025-02-11 06:17:58 -0500 (Tue, 11 Feb 2025) EllapsedTime: 223.5 seconds RetCode: 0 Status: OK CheckDir: MethylMix.Rcheck Warnings: 0