Package: MethylMix Version: 2.36.0 Command: /home/biocbuild/bbs-3.20-bioc/R/bin/R CMD check --install=check:MethylMix.install-out.txt --library=/home/biocbuild/bbs-3.20-bioc/R/site-library --timings MethylMix_2.36.0.tar.gz StartedAt: 2025-02-04 00:00:40 -0500 (Tue, 04 Feb 2025) EndedAt: 2025-02-04 00:02:27 -0500 (Tue, 04 Feb 2025) EllapsedTime: 107.1 seconds RetCode: 0 Status: OK CheckDir: MethylMix.Rcheck Warnings: 0