Package: MethylMix Version: 2.36.0 Command: rm -rf MethylMix.buildbin-libdir && mkdir MethylMix.buildbin-libdir && F:\biocbuild\bbs-3.20-bioc\R\bin\R.exe CMD INSTALL --build --library=MethylMix.buildbin-libdir MethylMix_2.36.0.tar.gz StartedAt: 2025-02-04 08:54:21 -0500 (Tue, 04 Feb 2025) EndedAt: 2025-02-04 08:54:53 -0500 (Tue, 04 Feb 2025) EllapsedTime: 32.1 seconds RetCode: 0 Status: OK PackageFile: MethylMix_2.36.0.zip PackageFileSize: 2.922 MiB