Package: MethylSeekR Version: 1.46.0 Command: /Library/Frameworks/R.framework/Resources/bin/R CMD INSTALL MethylSeekR StartedAt: 2025-02-03 15:56:23 -0500 (Mon, 03 Feb 2025) EndedAt: 2025-02-03 15:56:59 -0500 (Mon, 03 Feb 2025) EllapsedTime: 36.2 seconds RetCode: 0 Status: OK