Package: MethylSeekR Version: 1.46.0 Command: /Library/Frameworks/R.framework/Resources/bin/R CMD build --keep-empty-dirs --no-resave-data MethylSeekR StartedAt: 2025-02-03 20:14:12 -0500 (Mon, 03 Feb 2025) EndedAt: 2025-02-03 20:17:45 -0500 (Mon, 03 Feb 2025) EllapsedTime: 213.0 seconds RetCode: 0 Status: OK PackageFile: MethylSeekR_1.46.0.tar.gz PackageFileSize: 1.594 MiB