Package: MethylSeekR Version: 1.46.0 Command: /Library/Frameworks/R.framework/Resources/bin/R CMD check --install=check:MethylSeekR.install-out.txt --library=/Library/Frameworks/R.framework/Resources/library --no-vignettes --timings MethylSeekR_1.46.0.tar.gz StartedAt: 2025-02-04 06:12:35 -0500 (Tue, 04 Feb 2025) EndedAt: 2025-02-04 06:24:51 -0500 (Tue, 04 Feb 2025) EllapsedTime: 735.9 seconds RetCode: 0 Status: OK CheckDir: MethylSeekR.Rcheck Warnings: 0