Package: MethylSeekR Version: 1.46.0 Command: rm -rf MethylSeekR.buildbin-libdir && mkdir MethylSeekR.buildbin-libdir && F:\biocbuild\bbs-3.20-bioc\R\bin\R.exe CMD INSTALL --build --library=MethylSeekR.buildbin-libdir MethylSeekR_1.46.0.tar.gz StartedAt: 2025-02-04 08:54:32 -0500 (Tue, 04 Feb 2025) EndedAt: 2025-02-04 08:55:16 -0500 (Tue, 04 Feb 2025) EllapsedTime: 43.8 seconds RetCode: 0 Status: OK PackageFile: MethylSeekR_1.46.0.zip PackageFileSize: 1.657 MiB