Package: Mfuzz Version: 2.66.0 Command: rm -rf Mfuzz.buildbin-libdir && mkdir Mfuzz.buildbin-libdir && /Users/biocbuild/BBS/utils/build-universal.sh Mfuzz_2.66.0.tar.gz /Library/Frameworks/R.framework/Resources/bin/R Mfuzz.buildbin-libdir StartedAt: 2024-11-09 16:58:29 -0500 (Sat, 09 Nov 2024) EndedAt: 2024-11-09 16:58:32 -0500 (Sat, 09 Nov 2024) EllapsedTime: 3.1 seconds RetCode: 0 Status: OK PackageFile: Mfuzz_2.66.0.tgz PackageFileSize: 854.4 KiB