Package: Mfuzz Version: 2.66.0 Command: /home/biocbuild/bbs-3.20-bioc/R/bin/R CMD INSTALL Mfuzz StartedAt: 2025-02-10 15:16:24 -0500 (Mon, 10 Feb 2025) EndedAt: 2025-02-10 15:16:38 -0500 (Mon, 10 Feb 2025) EllapsedTime: 14.0 seconds RetCode: 0 Status: OK