Package: Mfuzz Version: 2.65.0 Command: rm -rf Mfuzz.buildbin-libdir && mkdir Mfuzz.buildbin-libdir && C:\Users\biocbuild\bbs-3.20-bioc\R\bin\R.exe CMD INSTALL --build --library=Mfuzz.buildbin-libdir Mfuzz_2.65.0.tar.gz StartedAt: 2024-07-13 05:22:12 -0400 (Sat, 13 Jul 2024) EndedAt: 2024-07-13 05:22:20 -0400 (Sat, 13 Jul 2024) EllapsedTime: 7.5 seconds RetCode: 0 Status: OK PackageFile: Mfuzz_2.65.0.zip PackageFileSize: 699.2 KiB