Package: MiChip Version: 1.60.0 Command: /Library/Frameworks/R.framework/Resources/bin/R CMD build --keep-empty-dirs --no-resave-data MiChip StartedAt: 2025-02-03 20:17:28 -0500 (Mon, 03 Feb 2025) EndedAt: 2025-02-03 20:17:57 -0500 (Mon, 03 Feb 2025) EllapsedTime: 29.2 seconds RetCode: 0 Status: OK PackageFile: MiChip_1.60.0.tar.gz PackageFileSize: 669.7 KiB