Package: MiChip Version: 1.60.0 Command: /home/biocbuild/bbs-3.20-bioc/R/bin/R CMD build --keep-empty-dirs --no-resave-data --md5 MiChip StartedAt: 2025-02-03 18:12:26 -0500 (Mon, 03 Feb 2025) EndedAt: 2025-02-03 18:12:35 -0500 (Mon, 03 Feb 2025) EllapsedTime: 9.0 seconds RetCode: 0 Status: OK PackageFile: MiChip_1.60.0.tar.gz PackageFileSize: 652.3 KiB