Package: MiChip Version: 1.60.0 Command: /home/biocbuild/R/R/bin/R CMD build --keep-empty-dirs --no-resave-data MiChip StartedAt: 2025-02-04 00:56:19 -0000 (Tue, 04 Feb 2025) EndedAt: 2025-02-04 00:56:30 -0000 (Tue, 04 Feb 2025) EllapsedTime: 11.0 seconds RetCode: 0 Status: OK PackageFile: MiChip_1.60.0.tar.gz PackageFileSize: 643.7 KiB