Package: MiPP Version: 1.78.0 Command: /Library/Frameworks/R.framework/Resources/bin/R CMD check --install=check:MiPP.install-out.txt --library=/Library/Frameworks/R.framework/Resources/library --no-vignettes --timings MiPP_1.78.0.tar.gz StartedAt: 2025-02-05 02:03:39 -0500 (Wed, 05 Feb 2025) EndedAt: 2025-02-05 02:04:53 -0500 (Wed, 05 Feb 2025) EllapsedTime: 74.3 seconds RetCode: 0 Status: OK CheckDir: MiPP.Rcheck Warnings: 0