Package: MiPP Version: 1.78.0 Command: /Library/Frameworks/R.framework/Resources/bin/R CMD INSTALL MiPP StartedAt: 2024-11-19 15:04:34 -0500 (Tue, 19 Nov 2024) EndedAt: 2024-11-19 15:05:09 -0500 (Tue, 19 Nov 2024) EllapsedTime: 34.6 seconds RetCode: 0 Status: OK