Package: MiPP Version: 1.78.0 Command: rm -rf MiPP.buildbin-libdir && mkdir MiPP.buildbin-libdir && /Users/biocbuild/BBS/utils/build-universal.sh MiPP_1.78.0.tar.gz /Library/Frameworks/R.framework/Resources/bin/R MiPP.buildbin-libdir StartedAt: 2025-02-11 13:48:05 -0500 (Tue, 11 Feb 2025) EndedAt: 2025-02-11 13:48:17 -0500 (Tue, 11 Feb 2025) EllapsedTime: 12.4 seconds RetCode: 0 Status: OK PackageFile: MiPP_1.78.0.tgz PackageFileSize: 468 KiB