Package: MiPP Version: 1.78.0 Command: /Library/Frameworks/R.framework/Resources/bin/R CMD check --install=check:MiPP.install-out.txt --library=/Library/Frameworks/R.framework/Resources/library --no-vignettes --timings MiPP_1.78.0.tar.gz StartedAt: 2025-02-04 06:24:43 -0500 (Tue, 04 Feb 2025) EndedAt: 2025-02-04 06:27:50 -0500 (Tue, 04 Feb 2025) EllapsedTime: 186.3 seconds RetCode: 0 Status: OK CheckDir: MiPP.Rcheck Warnings: 0