Package: MiPP Version: 1.78.0 Command: /Library/Frameworks/R.framework/Resources/bin/R CMD INSTALL MiPP StartedAt: 2025-02-03 15:13:02 -0500 (Mon, 03 Feb 2025) EndedAt: 2025-02-03 15:13:18 -0500 (Mon, 03 Feb 2025) EllapsedTime: 16.0 seconds RetCode: 0 Status: OK