Package: MiPP Version: 1.78.0 Command: /home/biocbuild/bbs-3.20-bioc/R/bin/R CMD check --install=check:MiPP.install-out.txt --library=/home/biocbuild/bbs-3.20-bioc/R/site-library --timings MiPP_1.78.0.tar.gz StartedAt: 2025-02-11 00:01:15 -0500 (Tue, 11 Feb 2025) EndedAt: 2025-02-11 00:02:23 -0500 (Tue, 11 Feb 2025) EllapsedTime: 67.1 seconds RetCode: 0 Status: OK CheckDir: MiPP.Rcheck Warnings: 0