Package: MiPP Version: 1.78.0 Command: F:\biocbuild\bbs-3.20-bioc\R\bin\R.exe CMD check --no-multiarch --install=check:MiPP.install-out.txt --library=F:\biocbuild\bbs-3.20-bioc\R\library --no-vignettes --timings MiPP_1.78.0.tar.gz StartedAt: 2025-02-11 03:40:41 -0500 (Tue, 11 Feb 2025) EndedAt: 2025-02-11 03:42:17 -0500 (Tue, 11 Feb 2025) EllapsedTime: 95.5 seconds RetCode: 0 Status: OK CheckDir: MiPP.Rcheck Warnings: 0