Package: MiRaGE Version: 1.48.0 Command: /Library/Frameworks/R.framework/Resources/bin/R CMD build --keep-empty-dirs --no-resave-data MiRaGE StartedAt: 2025-02-03 20:20:20 -0500 (Mon, 03 Feb 2025) EndedAt: 2025-02-03 20:22:31 -0500 (Mon, 03 Feb 2025) EllapsedTime: 131.2 seconds RetCode: 0 Status: OK PackageFile: MiRaGE_1.48.0.tar.gz PackageFileSize: 1.313 MiB