Package: MiRaGE Version: 1.48.0 Command: /home/biocbuild/bbs-3.20-bioc/R/bin/R CMD check --install=check:MiRaGE.install-out.txt --library=/home/biocbuild/bbs-3.20-bioc/R/site-library --timings MiRaGE_1.48.0.tar.gz StartedAt: 2025-02-11 00:02:21 -0500 (Tue, 11 Feb 2025) EndedAt: 2025-02-11 00:04:40 -0500 (Tue, 11 Feb 2025) EllapsedTime: 139.1 seconds RetCode: 0 Status: WARNINGS CheckDir: MiRaGE.Rcheck Warnings: 1