Package: MiRaGE Version: 1.47.0 Command: rm -rf MiRaGE.buildbin-libdir && mkdir MiRaGE.buildbin-libdir && F:\biocbuild\bbs-3.20-bioc\R\bin\R.exe CMD INSTALL --build --library=MiRaGE.buildbin-libdir MiRaGE_1.47.0.tar.gz StartedAt: 2024-06-10 14:14:20 -0400 (Mon, 10 Jun 2024) EndedAt: 2024-06-10 14:15:30 -0400 (Mon, 10 Jun 2024) EllapsedTime: 69.9 seconds RetCode: 0 Status: OK PackageFile: MiRaGE_1.47.0.zip PackageFileSize: 1.208 MiB