Package: MiRaGE Version: 1.48.0 Command: chmod a+r MiRaGE -R && F:\biocbuild\bbs-3.20-bioc\R\bin\R.exe CMD build --keep-empty-dirs --no-resave-data MiRaGE StartedAt: 2025-02-03 20:23:41 -0500 (Mon, 03 Feb 2025) EndedAt: 2025-02-03 20:25:03 -0500 (Mon, 03 Feb 2025) EllapsedTime: 81.7 seconds RetCode: 0 Status: OK PackageFile: MiRaGE_1.48.0.tar.gz PackageFileSize: 1.17 MiB