Package: MicrobiomeProfiler Version: 1.12.0 Command: /Library/Frameworks/R.framework/Resources/bin/R CMD INSTALL MicrobiomeProfiler StartedAt: 2025-02-10 17:37:01 -0500 (Mon, 10 Feb 2025) EndedAt: 2025-02-10 17:37:29 -0500 (Mon, 10 Feb 2025) EllapsedTime: 27.8 seconds RetCode: 0 Status: OK