Package: MicrobiomeProfiler Version: 1.12.0 Command: chmod a+r MicrobiomeProfiler -R && F:\biocbuild\bbs-3.20-bioc\R\bin\R.exe CMD build --keep-empty-dirs --no-resave-data MicrobiomeProfiler StartedAt: 2025-02-10 20:16:01 -0500 (Mon, 10 Feb 2025) EndedAt: 2025-02-10 20:16:52 -0500 (Mon, 10 Feb 2025) EllapsedTime: 51.8 seconds RetCode: 0 Status: OK PackageFile: MicrobiomeProfiler_1.12.0.tar.gz PackageFileSize: 1.051 MiB