Package: MicrobiotaProcess Version: 1.18.0 Command: /home/biocbuild/bbs-3.20-bioc/R/bin/R CMD build --keep-empty-dirs --no-resave-data --md5 MicrobiotaProcess StartedAt: 2025-02-03 18:12:58 -0500 (Mon, 03 Feb 2025) EndedAt: 2025-02-03 18:15:24 -0500 (Mon, 03 Feb 2025) EllapsedTime: 145.2 seconds RetCode: 0 Status: OK PackageFile: MicrobiotaProcess_1.18.0.tar.gz PackageFileSize: 4.794 MiB