Package: MicrobiotaProcess Version: 1.18.0 Command: /home/biocbuild/bbs-3.20-bioc/R/bin/R CMD INSTALL MicrobiotaProcess StartedAt: 2025-02-03 15:53:55 -0500 (Mon, 03 Feb 2025) EndedAt: 2025-02-03 15:55:00 -0500 (Mon, 03 Feb 2025) EllapsedTime: 65.0 seconds RetCode: 0 Status: OK