Package: MicrobiotaProcess Version: 1.18.0 Command: /home/biocbuild/R/R/bin/R CMD build --keep-empty-dirs --no-resave-data MicrobiotaProcess StartedAt: 2025-02-04 00:57:22 -0000 (Tue, 04 Feb 2025) EndedAt: 2025-02-04 01:00:51 -0000 (Tue, 04 Feb 2025) EllapsedTime: 209.1 seconds RetCode: 0 Status: OK PackageFile: MicrobiotaProcess_1.18.0.tar.gz PackageFileSize: 3.747 MiB