Package: MicrobiotaProcess Version: 1.18.0 Command: /home/biocbuild/R/R/bin/R CMD INSTALL MicrobiotaProcess StartedAt: 2025-02-10 20:54:24 -0000 (Mon, 10 Feb 2025) EndedAt: 2025-02-10 20:55:47 -0000 (Mon, 10 Feb 2025) EllapsedTime: 83.0 seconds RetCode: 0 Status: OK